





BEGIN:VCALENDAR
VERSION:2.0
METHOD:PUBLISH
PRODID:-//PJ23 Webheld//Vieringen//NL
BEGIN:VEVENT
DTSTART:20260517T110000
DTSTAMP:20260517T110000
DTEND:20260517T120000
SUMMARY:Eerste Heilige Communie PJ23
DESCRIPTION:Type: Eucharistieviering\nVoorganger: Pastoor F. Hogenelst\nLocatie: Houten\nextra informatie: met Lilian Weijman, pastoraal werker\n 
UID:viering4791@PJ23
LOCATION:Houten
END:VEVENT
END:VCALENDAR