





BEGIN:VCALENDAR
VERSION:2.0
METHOD:PUBLISH
PRODID:-//PJ23 Webheld//Vieringen//NL
BEGIN:VEVENT
DTSTART:20260510T093000
DTSTAMP:20260510T093000
DTEND:20260510T103000
SUMMARY:Kidskerk Houten
DESCRIPTION:Type: Kidskerk\nVoorganger: werkgroep\nLocatie: Houten\n 
UID:viering5583@PJ23
LOCATION:Houten
END:VEVENT
END:VCALENDAR