





BEGIN:VCALENDAR
VERSION:2.0
METHOD:PUBLISH
PRODID:-//PJ23 Webheld//Vieringen//NL
BEGIN:VEVENT
DTSTART:20260601T150000
DTSTAMP:20260601T150000
DTEND:20260601T160000
SUMMARY:Woord- en Communieviering
DESCRIPTION:Voorganger: Diaken V. van der Helm\nLocatie: Verpleeghuis Het Houtens Erf\n 
UID:viering5579@PJ23
LOCATION:Verpleeghuis Het Houtens Erf
END:VEVENT
END:VCALENDAR