





BEGIN:VCALENDAR
VERSION:2.0
METHOD:PUBLISH
PRODID:-//PJ23 Webheld//Vieringen//NL
BEGIN:VEVENT
DTSTART:20260703T100000
DTSTAMP:20260703T100000
DTEND:20260703T110000
SUMMARY:Eucharistieviering
DESCRIPTION:Type: Eucharistieviering\nVoorganger: Pastoor F. Hogenelst\nLocatie: Dagkapel Houten\n 
UID:viering5574@PJ23
LOCATION:Dagkapel Houten
END:VEVENT
END:VCALENDAR