





BEGIN:VCALENDAR
VERSION:2.0
METHOD:PUBLISH
PRODID:-//PJ23 Webheld//Vieringen//NL
BEGIN:VEVENT
DTSTART:20260428T190000
DTSTAMP:20260428T190000
DTEND:20260428T200000
SUMMARY:Eucharistieviering
DESCRIPTION:Type: Eucharistieviering\nVoorganger: Pastoor F. Hogenelst\nLocatie: Dagkapel Bunnik\n 
UID:viering5043@PJ23
LOCATION:Dagkapel Bunnik
END:VEVENT
END:VCALENDAR