





BEGIN:VCALENDAR
VERSION:2.0
METHOD:PUBLISH
PRODID:-//PJ23 Webheld//Vieringen//NL
BEGIN:VEVENT
DTSTART:20260711T190000
DTSTAMP:20260711T190000
DTEND:20260711T200000
SUMMARY:Eucharistieviering
DESCRIPTION:Type: Eucharistieviering\nVoorganger: Pastor O. Swijnenberg\nLocatie: Wijk bij Duurstede\n 
UID:viering4837@PJ23
LOCATION:Wijk bij Duurstede
END:VEVENT
END:VCALENDAR