





BEGIN:VCALENDAR
VERSION:2.0
METHOD:PUBLISH
PRODID:-//PJ23 Webheld//Vieringen//NL
BEGIN:VEVENT
DTSTART:20260705T110000
DTSTAMP:20260705T110000
DTEND:20260705T120000
SUMMARY:Afscheidsviering Pastoor Hogenelst
DESCRIPTION:Type: Eucharistieviering\nVoorganger: Pastoor F. Hogenelst\nLocatie: Houten\nextra informatie: met medewerking van alle pastores\n 
UID:viering4832@PJ23
LOCATION:Houten
END:VEVENT
END:VCALENDAR