





BEGIN:VCALENDAR
VERSION:2.0
METHOD:PUBLISH
PRODID:-//PJ23 Webheld//Vieringen//NL
BEGIN:VEVENT
DTSTART:20260404T210000
DTSTAMP:20260404T210000
DTEND:20260404T220000
SUMMARY:Paaswake &amp; Doop Volwassenen
DESCRIPTION:Type: Eucharistieviering\nVoorganger: Pastoor F. Hogenelst\nLocatie: Houten\nextra informatie: met Wies Sarot, pastoraal werker\n\n<a href="https://pj23.nl/wp-content/uploads/2026/04/Liturgieboekje-Houten-Paaswake-4-april.pdf" target="_blank" rel="noopener">Liturgieboekje Houten Paaswake 4 april</a>\n\n&nbsp;\n 
UID:viering4746@PJ23
LOCATION:Houten
END:VEVENT
END:VCALENDAR